BEGIN:VCALENDAR
VERSION:2.0
PRODID:icalendar-ruby
CALSCALE:GREGORIAN
METHOD:PUBLISH
BEGIN:VEVENT
DTSTAMP:20260420T032538Z
UID:39-501@sjmusic.ca
DTSTART:20260523T023000Z
DTEND:20260523T034000Z
CLASS:PUBLIC
CREATED:20260419T140824
DESCRIPTION:Violinist Sarah Westwick and pianist Stephen Smith present a th
 oughtfully programme that brings together a rarely heard work and a famili
 ar Romantic cornerstone. Central to the recital is a sonata by Dora Pejač
 ević\, the nineteenth-century Croatian composer\, pianist\, and violinist
  whose music is still seldom encountered in concert halls. Richly crafted 
 and emotionally direct\, the sonata reveals a distinctive voice from the l
 ate Romantic era and offers listeners a chance to encounter a composer bey
 ond the standard repertoire.\n\nThe programme also includes Johannes Brahm
 s’s Violin Sonata No 1 in G major\, commonly known as the “Rain Sonat
 a.” Drawing on themes from Brahms’s song Regenlied\, the work is known
  for its lyricism\, warmth\, and inward character. Sarah and Stephen appro
 ach the sonata with clarity and balance\, allowing its long melodic lines 
 and subtle interplay between violin and piano to speak naturally.\nTogethe
 r\, these works create a recital that invites close listening and reflecti
 on. By placing Pejačević alongside Brahms\, the programme offers both fa
 miliarity and discovery\, presented through the collaborative musicianship
  of two performers deeply engaged with the repertoire.\n\nTickets from $20
 \n \n
LAST-MODIFIED:20260419T140824
LOCATION:St James' Anglican Church  |  303 East Cordova\, Vancouver
SUMMARY:Romantic Sonatas for Violin and Piano
URL;VALUE=URI:https://www.sjmusic.ca/events/romantic-sonatas-for-violin-and
 -piano/2026-05-22
ATTACH;FILENAME=StephenSarah.jpg;FMTTYPE=image/jpeg:https://dq5pwpg1q8ru0.c
 loudfront.net/2026/04/19/21/08/03/ec9fa5d3-8666-4c89-a333-fd3e05e8611f/Ste
 phenSarah.jpg
END:VEVENT
END:VCALENDAR
